BEGIN:VCALENDAR
VERSION:2.0
PRODID:-//Alder Hey Children&#039;s Charity - ECPv6.15.18//NONSGML v1.0//EN
CALSCALE:GREGORIAN
METHOD:PUBLISH
X-WR-CALNAME:Alder Hey Children&#039;s Charity
X-ORIGINAL-URL:https://www.alderheycharity.org
X-WR-CALDESC:Events for Alder Hey Children&#039;s Charity
REFRESH-INTERVAL;VALUE=DURATION:PT1H
X-Robots-Tag:noindex
X-PUBLISHED-TTL:PT1H
BEGIN:VTIMEZONE
TZID:UTC
BEGIN:STANDARD
TZOFFSETFROM:+0000
TZOFFSETTO:+0000
TZNAME:UTC
DTSTART:20250101T000000
END:STANDARD
END:VTIMEZONE
BEGIN:VEVENT
DTSTART;VALUE=DATE:20260823
DTEND;VALUE=DATE:20260824
DTSTAMP:20260423T122416
CREATED:20260223T100659Z
LAST-MODIFIED:20260225T105542Z
UID:10000043-1787443200-1787529599@www.alderheycharity.org
SUMMARY:Tour De Mon
DESCRIPTION:Ride Anglesey. Power Possibility. Support Alder Hey.\nJoin Team Alder Hey for the breathtaking Tour de Môn and cycle through some of the UK’s most stunning coastal scenery\, all while making a meaningful difference for the children and families we care for. \nWhether you’re taking on your first big ride or chasing a new personal challenge\, every mile you pedal helps fund groundbreaking research\, cutting-edge equipment\, and world-class care at Alder Hey. \nSaddle up and ride with purpose. Let’s make every mile count! \nRegistration: Free (email community@alderheycharity.org for more information).\nMinimum fundraising: £200
URL:https://www.alderheycharity.org/event/tour-de-mon/
LOCATION:Holyhead\, Holyhead\, United Kingdom
CATEGORIES:Cycling Events
ATTACH;FMTTYPE=image/jpeg:https://www.alderheycharity.org/wp-content/uploads/2024/06/Adam-Amsterdam.jpg
END:VEVENT
END:VCALENDAR